BEGIN:VCALENDAR
VERSION:2.0
PRODID: -//CMS 5.0 //NONSGML //DE
BEGIN:VEVENT
SUMMARY:Jugendgottesdienst im Kirchenbezirk Berlin-Brandenburg-Süd
DESCRIPTION:Sei dabei! Du bist herzlich zum Gottesdienst eingeladen.\n\n
 \n\nhttps://bezirk-berlin-brandenburg-sued.nak-nordost.de/db/560682
UID:560682@bezirk-berlin-brandenburg-sued.nak-nordost.de
LOCATION:
CATEGORIES:Kirchenbezirk Berlin-Brandenburg-Süd,Jugendgottesdienst,Kirchenbezirk Berlin-Brandenburg-Süd (alle Gemeinden)
X-ORGANIZER:
STATUS:CONFIRMED
CLASS:PUBLIC
DTSTART:20260118T100000Z
DTEND:20260118T110000Z
DTSTAMP:20260422T183819Z
CREATED:20251203T181048Z
LAST-MODIFIED:20251203T181240Z
BEGIN:VALARM
UID:6EFC07AA-3E7A-11F1-84B1-2FC969372A87
TRIGGER:-PT60M
ACTION:DISPLAY
DESCRIPTION:SUMMARY:Jugendgottesdienst im Kirchenbezirk Berlin-Brandenburg-Süd
END:VALARM
END:VEVENT
END:VCALENDAR
