BEGIN:VCALENDAR
VERSION:2.0
PRODID: -//CMS 5.0 //NONSGML //DE
BEGIN:VEVENT
SUMMARY:Jugendgottesdienst im Kirchenbezirk Berlin-Brandenburg-Süd
DESCRIPTION:Sei dabei! Du bist herzlich zum Gottesdienst eingeladen.\n\n
 \n\nhttps://bezirk-berlin-brandenburg-sued.nak-nordost.de/db/564512
UID:564512@bezirk-berlin-brandenburg-sued.nak-nordost.de
LOCATION:
CATEGORIES:Kirchenbezirk Berlin-Brandenburg-Süd,Jugendgottesdienst,Kirchenbezirk Berlin-Brandenburg-Süd (alle Gemeinden)
X-ORGANIZER:
STATUS:CONFIRMED
CLASS:PUBLIC
DTSTART:20260614T090000Z
DTEND:20260614T100000Z
DTSTAMP:20260422T201646Z
CREATED:20251212T104845Z
LAST-MODIFIED:20251212T104929Z
BEGIN:VALARM
UID:300780AC-3E88-11F1-BF51-F7CF69372A87
TRIGGER:-PT60M
ACTION:DISPLAY
DESCRIPTION:SUMMARY:Jugendgottesdienst im Kirchenbezirk Berlin-Brandenburg-Süd
END:VALARM
END:VEVENT
END:VCALENDAR
