BEGIN:VCALENDAR
VERSION:2.0
PRODID: -//CMS 5.0 //NONSGML //DE
BEGIN:VEVENT
SUMMARY:Kinderfreizeit 2026
DESCRIPTION:Herzliche Einladung zum Bezirks-Kindertag 2026.\n\n\nGemeins
 chaft haben, zusammen lachen und uns gegenseitig helfen.\nJeder soll si
 ch angenommen fühlen wie er ist. Bitte tragt Euch in die Teilnehmerlis
 te der Gemeinde bis zum 10.Mai 2026 ein. Wir freuen uns auf Euch.\n\n\n
 \nhttps://bezirk-berlin-brandenburg-sued.nak-nordost.de/db/573251
UID:573251@bezirk-berlin-brandenburg-sued.nak-nordost.de
LOCATION:
CATEGORIES:Kirchenbezirk Berlin-Brandenburg-Süd,Kinder,Gruppe Kindertage,Kirchenbezirk Berlin-Brandenburg-Süd (alle Gemeinden)
X-ORGANIZER:
STATUS:CONFIRMED
CLASS:PUBLIC
DTSTART;VALUE=DATE:20260627
DTEND;VALUE=DATE:20260628
DTSTAMP:20260422T201646Z
CREATED:20260108T195023Z
LAST-MODIFIED:20260311T075009Z
BEGIN:VALARM
UID:3001D7C4-3E88-11F1-931F-50CC69372A87
TRIGGER:-PT60M
ACTION:DISPLAY
DESCRIPTION:SUMMARY:Kinderfreizeit 2026
END:VALARM
END:VEVENT
END:VCALENDAR
