BEGIN:VCALENDAR
VERSION:2.0
PRODID: -//CMS 5.0 //NONSGML //DE
BEGIN:VEVENT
SUMMARY:Jugendfreizeit am Werbellinsee
DESCRIPTION:\n\nhttps://bezirk-berlin-brandenburg-sued.nak-nordost.de/db
 /597510
UID:597510@bezirk-berlin-brandenburg-sued.nak-nordost.de
LOCATION:
CATEGORIES:Jugend,Kirchenbezirk Rostock,Kirchenbezirk Berlin-Brandenburg-Ost,Kirchenbezirk Berlin-Brandenburg-Nord,Kirchenbezirk Berlin-Brandenburg-Süd,Kirchenbezirk Berlin-Brandenburg-West (alle Gemeinden),Kirchenbezirk Rostock (Alle Gemeinden),Kirchenbezirk Güstrow (Alle Gemeinden),Kirchenbezirk Neubrandenburg (Alle Gemeinden),Kirchenbezirk Neubrandenburg,Kirchenbezirk Berlin-Brandenburg-Ost (alle Gemeinden),Kirchenbezirk Berlin-Brandenburg-Nord (alle Gemeinden),Kirchenbezirk Berlin-Brandenburg-West,Kirchenbezirk Güstrow,Kirchenbezirk Berlin-Brandenburg-Süd (alle Gemeinden)
X-ORGANIZER:
STATUS:CONFIRMED
CLASS:PUBLIC
DTSTART:20260430T180000Z
DTEND:20260503T120000Z
DTSTAMP:20260422T201325Z
CREATED:20260331T180409Z
LAST-MODIFIED:20260414T125158Z
BEGIN:VALARM
UID:B7D00064-3E87-11F1-89CD-31C969372A87
TRIGGER:-PT60M
ACTION:DISPLAY
DESCRIPTION:SUMMARY:Jugendfreizeit am Werbellinsee
END:VALARM
END:VEVENT
END:VCALENDAR
